BEGIN:VCALENDAR
VERSION:2.0
PRODID:spatie/icalendar-generator
DESCRIPTION:Évènements de Lure Basket Club
X-WR-CALDESC:Évènements de Lure Basket Club
REFRESH-INTERVAL;VALUE=DURATION:PT1440M
X-PUBLISHED-TTL:PT1440M
BEGIN:VTIMEZONE
TZID:Europe/Paris
BEGIN:DAYLIGHT
DTSTART:20250330T020000Z
TZOFFSETFROM:+0100
TZOFFSETTO:+0200
END:DAYLIGHT
BEGIN:STANDARD
DTSTART:20251026T030000Z
TZOFFSETFROM:+0200
TZOFFSETTO:+0100
END:STANDARD
END:VTIMEZONE
BEGIN:VTIMEZONE
TZID:UTC
BEGIN:STANDARD
DTSTART:20250723T124140Z
TZOFFSETFROM:+0000
TZOFFSETTO:+0000
END:STANDARD
END:VTIMEZONE
BEGIN:VEVENT
UID:26-19
DTSTAMP:20260419T124140Z
SUMMARY:Stage d'été U11 - 10h00 à 12H00
LOCATION:
ORGANIZER;CN=admin2539:MAILTO:fred.viry@orange.fr
DTSTART;TZID=Europe/Paris;VALUE=DATE:20250825
DTEND;TZID=Europe/Paris;VALUE=DATE:20250830
X-ALT-DESC;FMTTYPE=TEXT/HTML:avec Bernard Gratuit et sans inscription 10h00
  à 12H00
CATEGORIES:Entrainements
URL;VALUE=URI:https://www.lure-basket-club.fr/mc-events/stage-dete-u11-10h0
 0-a-12h00/
METHOD:PUBLISH
END:VEVENT
END:VCALENDAR